BEGIN:VCALENDAR
VERSION:2.0
PRODID:-//ChamberMaster//Event Calendar 2.0//EN
METHOD:PUBLISH
X-PUBLISHED-TTL:P3D
REFRESH-INTERVAL:P3D
CALSCALE:GREGORIAN
BEGIN:VEVENT
DTSTART;VALUE=DATE:20260301
DTEND;VALUE=DATE:20260308
TRANSP:TRANSPARENT
X-MICROSOFT-CDO-ALLDAYEVENT:TRUE
SUMMARY:Women In Construction Week
DESCRIPTION:Women In Construction Week\n\nWe look forward to highlighting Women In Construction throughout this week!\n\nPlease send us images with names and titles\, to cheryl@greatlakesca.org by Wednesday February 25th!\n\n\n\nWhat is Women In Construction Week?\n\nHosted and organized by the National Association of Women in Construction (NAWIC) and other industry partners.\n\nPurpose:  To recognize the achievements of women in construction\, raise awareness about career paths\, and address industry challenges.
X-ALT-DESC;FMTTYPE=text/html:<span style="font-size:20px\;"><span style="color:#ff66ff\;"><strong>Women In Construction Week</strong></span></span><br />\nWe look forward to highlighting Women In Construction throughout this week!<br />\nPlease send us images with names and titles\, to cheryl@greatlakesca.org by Wednesday February 25th!<br />\n<br />\nWhat is Women In Construction Week?<br />\nHosted and organized by the National Association of Women in Construction (NAWIC) and other industry partners.<br />\nPurpose:&nbsp\; To recognize the achievements of women in construction\, raise awareness about career paths\, and address industry challenges.
LOCATION:
UID:e.9428.1486
SEQUENCE:3
DTSTAMP:20260421T162220Z
URL:https://construction.greatlakesca.org/events/details/women-in-construction-week-1486
END:VEVENT

END:VCALENDAR
