BEGIN:VCALENDAR
VERSION:2.0
PRODID:-//ChamberMaster//Event Calendar 2.0//EN
METHOD:PUBLISH
X-PUBLISHED-TTL:P3D
REFRESH-INTERVAL:P3D
CALSCALE:GREGORIAN
BEGIN:VEVENT
DTSTART;VALUE=DATE:20250302
DTEND;VALUE=DATE:20250309
TRANSP:TRANSPARENT
X-MICROSOFT-CDO-ALLDAYEVENT:TRUE
SUMMARY:Women In Construction Week
DESCRIPTION:Women In Construction Week!\n\nMarch 2nd - 8th\, 2025\n\nSend us a picture of your Women In Construction\, with names and titles\, via email to: cheryl@greatlakesca.org\n\nby Wednesday 2/26/25\n\nso we can feature your team
X-ALT-DESC;FMTTYPE=text/html:<span style="font-size:26px\;"><strong>Women In Construction Week!<br />\nMarch 2nd - 8th\, 2025<br />\nSend us a picture of your Women In Construction\, with names and titles\, via email to: <em>cheryl@greatlakesca.org<br />\nby Wednesday 2/26/25</em><br />\nso we can feature your team</strong></span><br />\n&nbsp\;
LOCATION:
UID:e.9428.1451
SEQUENCE:3
DTSTAMP:20260423T224118Z
URL:https://construction.greatlakesca.org/events/details/women-in-construction-week-1451
END:VEVENT

END:VCALENDAR
