BEGIN:VCALENDAR
VERSION:2.0
PRODID:-//ChamberMaster//Event Calendar 2.0//EN
METHOD:PUBLISH
X-PUBLISHED-TTL:P3D
REFRESH-INTERVAL:P3D
CALSCALE:GREGORIAN
BEGIN:VEVENT
DTSTART:20250619T223000Z
DTEND:20250620T003000Z
X-MICROSOFT-CDO-ALLDAYEVENT:FALSE
SUMMARY:Woman's Group Event
DESCRIPTION:Women's Group Meet and Greet \n\nPlease join us at a Complimentary Meet and Greet with the GLCA Women's Group. \n\n \n\nAll women within the GLCA organization are invited\, including office and field employees. Members are encouraged to invite one potential new member lady as a guest!\n\n \n\nThis promises to be a welcoming and fun event so please take this opportunity to join us to meet other women in the GLCA.  We hope you take advantage of this opportunity to come and learn more about what our group does to help the evolving role of women in the construction industry.\n\n \n\nWe will have speakers\, wine\, and food   we look forward to meeting you!\n\n \n\nA special thank you to our generous host\, Julie Berger\, President of Berger Contractors\, Inc.
X-ALT-DESC;FMTTYPE=text/html:<span style="color:#000000\;"><strong><span style="font-size:22px\;">Women&#39\;s Group Meet and Greet&nbsp\;</span></strong><br />\n<span style="font-size:12.0pt\;"><span style="font-size:22px\;">Please join us at a Complimentary Meet and Greet with the GLCA Women&rsquo\;s Group.</span> </span><br />\n&nbsp\;<br />\n<span style="font-size:12.0pt\;">All women within the GLCA organization are invited\, including office and field employees. Members are encouraged to invite one potential new member lady as a guest!</span><br />\n&nbsp\;<br />\n<span style="font-size:12.0pt\;">This promises to be a welcoming and fun event so please take this opportunity to join us to meet other women in the GLCA.&nbsp\; We hope you take advantage of this opportunity to come and learn more about what our group does to help the evolving role of women in the construction industry.</span><br />\n&nbsp\;<br />\n<span style="font-size:12.0pt\;">We will have speakers\, wine\, and food &ndash\; we look forward to meeting you!</span></span><br />\n&nbsp\;<br />\n<strong><span style="background:yellow\;"><span style="color:red\;"><span style="font-size:12.0pt\;">A special thank you to our generous host\, Julie Berger\, President of Berger Contractors\, Inc.</span></span></span></strong><br />\n&nbsp\;
LOCATION:Berger Contractors\, Inc. 1205 Garland Road Wauconda\, IL
UID:e.9428.1469
SEQUENCE:3
DTSTAMP:20260423T175016Z
URL:https://construction.greatlakesca.org/events/details/woman-s-group-event-1469
END:VEVENT

END:VCALENDAR
