BEGIN:VCALENDAR
VERSION:2.0
PRODID:-//ChamberMaster//Event Calendar 2.0//EN
METHOD:PUBLISH
X-PUBLISHED-TTL:P3D
REFRESH-INTERVAL:P3D
CALSCALE:GREGORIAN
BEGIN:VEVENT
DTSTART:20251008T130000Z
DTEND:20251008T160000Z
X-MICROSOFT-CDO-ALLDAYEVENT:FALSE
SUMMARY:Trenching and Excavation Hazard Awareness
DESCRIPTION:Trenching and Excavation Hazard Awareness Course\n\nFree to the first 30 GLCA Members Registered\n\nWednesday\, 10/8/25\n\n8:00 am - 11:00 am\n\n\n\nComplimentary Continental Breakfast and Coffee\n\nprovided by Berger Contractors\n\n\n\nThis course is designed to educate workers about the hazards associated with trenching and excavation work. Participants will be able to identify potential hazards and what steps can be taken to avoid unsafe conditions. Participants will learn about requirements for excavations\, soil analysis\, how to choose protective systems\, and general jobsite hazard awareness.
X-ALT-DESC;FMTTYPE=text/html:<span style="font-size:18px\;"><span style="font-family:arial\;"><span style="font-size:22px\;"><span style="color:#000000\;"><strong>Trenching and Excavation Hazard Awareness Course</strong></span></span><br />\n<span style="color:#000000\;">Free to the first 30 GLCA Members Registered<br />\nWednesday\, 10/8/25<br />\n8:00 am - 11:00 am<br />\n<br />\nComplimentary Continental Breakfast and Coffee<br />\nprovided by Berger Contractors<br />\n<br />\nThis course is designed to educate workers about the hazards associated with trenching and excavation work. Participants will be able to identify potential hazards and what steps can be taken to avoid unsafe conditions. Participants will learn about requirements for excavations\, soil analysis\, how to choose protective systems\, and general jobsite hazard awareness.</span></span></span><br />\n<br />\n&nbsp\;
LOCATION:Great Lakes Construction Association Office 1850 W. Winchester Road Suite #111 Libertyville\, IL 60048
UID:e.9428.1478
SEQUENCE:3
DTSTAMP:20260423T113851Z
URL:https://construction.greatlakesca.org/events/details/trenching-and-excavation-hazard-awareness-1478
END:VEVENT

END:VCALENDAR
