BEGIN:VCALENDAR
VERSION:2.0
PRODID:-//ChamberMaster//Event Calendar 2.0//EN
METHOD:PUBLISH
X-PUBLISHED-TTL:P3D
REFRESH-INTERVAL:P3D
CALSCALE:GREGORIAN
BEGIN:VEVENT
DTSTART:20250522T183000Z
DTEND:20250522T220000Z
X-MICROSOFT-CDO-ALLDAYEVENT:FALSE
SUMMARY:Sporting Clay Outing at Northbrook Sports Club
DESCRIPTION:Sporting Clay Outing at\n\nNorthbrook Sports Club\n\n2025 Champions:\n\n1st Pat B of Camosy Construction!\n\n2nd Dave C of Thatcher Foundations\, Inc.!\n\n3rd Bill M of Jos. J. Henderson & Son Construction\, Inc.!
X-ALT-DESC;FMTTYPE=text/html:<span style="font-size:18px\;"><strong>Sporting Clay Outing at<br />\nNorthbrook Sports Club<br />\n2025 Champions:<br />\n1st Pat B of Camosy Construction!<br />\n2nd Dave C of Thatcher Foundations\, Inc.!<br />\n3rd Bill M of Jos. J. Henderson &amp\; Son Construction\, Inc.!</strong></span>
LOCATION:Northbrook Sports Club 160 Sports Club Drive Hainesville\, IL 60030
UID:e.9428.1442
SEQUENCE:3
DTSTAMP:20260423T201523Z
URL:https://construction.greatlakesca.org/events/details/sporting-clay-outing-at-northbrook-sports-club-05-22-2025-1442
END:VEVENT

END:VCALENDAR
