BEGIN:VCALENDAR
VERSION:2.0
PRODID:-//ChamberMaster//Event Calendar 2.0//EN
METHOD:PUBLISH
X-PUBLISHED-TTL:P3D
REFRESH-INTERVAL:P3D
CALSCALE:GREGORIAN
BEGIN:VEVENT
DTSTART:20250917T163000Z
DTEND:20250917T180000Z
X-MICROSOFT-CDO-ALLDAYEVENT:FALSE
SUMMARY:Safety Committee Meeting
DESCRIPTION:Safety Committee Meeting\n\nAssociation Office\n\n11:30 am - 1:00 pm
X-ALT-DESC;FMTTYPE=text/html:<span style="color:#000000\;"><span style="font-size:28px\;"><strong>Safety Committee Meeting<br />\nAssociation Office<br />\n11:30 am - 1:00 pm</strong></span></span>
LOCATION:GLCA Office
UID:e.9428.1475
SEQUENCE:3
DTSTAMP:20260423T124716Z
URL:https://construction.greatlakesca.org/events/details/safety-committee-meeting-1475
END:VEVENT

END:VCALENDAR
