BEGIN:VCALENDAR
VERSION:2.0
PRODID:-//ChamberMaster//Event Calendar 2.0//EN
METHOD:PUBLISH
X-PUBLISHED-TTL:P3D
REFRESH-INTERVAL:P3D
CALSCALE:GREGORIAN
BEGIN:VEVENT
DTSTART:20250610T163000Z
DTEND:20250610T180000Z
X-MICROSOFT-CDO-ALLDAYEVENT:FALSE
SUMMARY:Safety Committee Meeting
DESCRIPTION:GLCA Safety Committee Meeting\n\nTuesday\, 6/10/25 at 11:30 am\n\nLunch will be served
X-ALT-DESC;FMTTYPE=text/html:<span style="font-size:20px\;">GLCA Safety Committee Meeting<br />\nTuesday\, 6/10/25 at 11:30 am<br />\nLunch will be served</span>
LOCATION:1850 W. Winchester Road #111 Libertyville\, IL 60048
UID:e.9428.1472
SEQUENCE:3
DTSTAMP:20260423T185112Z
URL:https://construction.greatlakesca.org/events/details/safety-committee-meeting-1472
END:VEVENT

END:VCALENDAR
