BEGIN:VCALENDAR
VERSION:2.0
PRODID:-//ChamberMaster//Event Calendar 2.0//EN
METHOD:PUBLISH
X-PUBLISHED-TTL:P3D
REFRESH-INTERVAL:P3D
CALSCALE:GREGORIAN
BEGIN:VEVENT
DTSTART:20250521T163000Z
DTEND:20250521T180000Z
X-MICROSOFT-CDO-ALLDAYEVENT:FALSE
SUMMARY:Safety Committee Meeting
DESCRIPTION:Safety Committee Meeting\n\n5/21/25  11:30 am
X-ALT-DESC;FMTTYPE=text/html:<span style="font-size:20px\;">Safety Committee Meeting<br />\n5/21/25&nbsp\; 11:30 am&nbsp\;&nbsp\;&nbsp\;&nbsp\;&nbsp\;&nbsp\;&nbsp\;&nbsp\;</span>
LOCATION:FIELD TRIP TO NORTH CHICAGO Bulley & Andrews Concrete Restoration School worksite
UID:e.9428.1467
SEQUENCE:3
DTSTAMP:20260423T190345Z
URL:https://construction.greatlakesca.org/events/details/safety-committee-meeting-1467
END:VEVENT

END:VCALENDAR
