BEGIN:VCALENDAR
VERSION:2.0
PRODID:-//ChamberMaster//Event Calendar 2.0//EN
METHOD:PUBLISH
X-PUBLISHED-TTL:P3D
REFRESH-INTERVAL:P3D
CALSCALE:GREGORIAN
BEGIN:VEVENT
DTSTART;VALUE=DATE:20251224
DTEND;VALUE=DATE:20251226
TRANSP:TRANSPARENT
X-MICROSOFT-CDO-ALLDAYEVENT:TRUE
SUMMARY:Merry Christmas!
DESCRIPTION:We wish you a very\n\nMerry Christmas!\n\nthe GLCA office will be closed on 12/24/25 and 12/25/25 in observance of the Christmas holiday
X-ALT-DESC;FMTTYPE=text/html:<span style="font-size:28px\;"><span style="color:#008000\;"><strong>We wish you a very<br />\nMerry Christmas!<br />\n<span style="font-size:12px\;">the GLCA office will be closed on 12/24/25 and 12/25/25 in observance of the Christmas holiday</span></strong></span></span>
LOCATION:
UID:e.9428.1484
SEQUENCE:3
DTSTAMP:20260423T084056Z
URL:https://construction.greatlakesca.org/events/details/merry-christmas-1484
END:VEVENT

END:VCALENDAR
