BEGIN:VCALENDAR
VERSION:2.0
PRODID:-//ChamberMaster//Event Calendar 2.0//EN
METHOD:PUBLISH
X-PUBLISHED-TTL:P3D
REFRESH-INTERVAL:P3D
CALSCALE:GREGORIAN
BEGIN:VEVENT
DTSTART;VALUE=DATE:20250526
DTEND;VALUE=DATE:20250527
TRANSP:TRANSPARENT
X-MICROSOFT-CDO-ALLDAYEVENT:TRUE
SUMMARY:Memorial Day
DESCRIPTION:Memorial Day\n\nThe GLCA office will be closed in observance of Memorial Day
X-ALT-DESC;FMTTYPE=text/html:<span style="font-size:26px\;"><span style="color:#0000CD\;"><strong>Memorial Day</strong><br />\n<span style="font-size:12px\;">The GLCA office will be closed in observance of Memorial Day</span></span></span>
LOCATION:
UID:e.9428.1470
SEQUENCE:3
DTSTAMP:20260423T185819Z
URL:https://construction.greatlakesca.org/events/details/memorial-day-1470
END:VEVENT

END:VCALENDAR
