BEGIN:VCALENDAR
VERSION:2.0
PRODID:-//ChamberMaster//Event Calendar 2.0//EN
METHOD:PUBLISH
X-PUBLISHED-TTL:P3D
REFRESH-INTERVAL:P3D
CALSCALE:GREGORIAN
BEGIN:VEVENT
DTSTART;VALUE=DATE:20251127
DTEND;VALUE=DATE:20251128
TRANSP:TRANSPARENT
X-MICROSOFT-CDO-ALLDAYEVENT:TRUE
SUMMARY:Happy Thanksgiving!
DESCRIPTION:Happy Thanksgiving!\n\nWishing you a Happy Thanksgiving filled with gratitude\, laughter\, and cherished moments with loved ones.
X-ALT-DESC;FMTTYPE=text/html:<span style="color:#8B4513\;"><span style="font-size:36px\;"><strong><em><span style="font-family:tahoma\;">Happy Thanksgiving!</span></em></strong></span></span><br />\nWishing you a Happy Thanksgiving filled with gratitude\, laughter\, and cherished moments with loved ones.
LOCATION:
UID:e.9428.1483
SEQUENCE:3
DTSTAMP:20260423T112110Z
URL:https://construction.greatlakesca.org/events/details/happy-thanksgiving-1483
END:VEVENT

END:VCALENDAR
