BEGIN:VCALENDAR
VERSION:2.0
PRODID:-//ChamberMaster//Event Calendar 2.0//EN
METHOD:PUBLISH
X-PUBLISHED-TTL:P3D
REFRESH-INTERVAL:P3D
CALSCALE:GREGORIAN
BEGIN:VEVENT
DTSTART;VALUE=DATE:20251231
DTEND;VALUE=DATE:20260102
TRANSP:TRANSPARENT
X-MICROSOFT-CDO-ALLDAYEVENT:TRUE
SUMMARY:Happy New Year!
DESCRIPTION:Happy New Year!\nthe association office will be closed on Wednesday 12/31/25 and Thursday 1/1/26\,\n\nopen on Friday 1/2/26!
X-ALT-DESC;FMTTYPE=text/html:<div style="font-size: 36px\;"><span style="color:#006400\;"><strong>Happy New Year!</strong></span>\n<p><span style="color:#006400\;"><strong><span style="font-size:12px\;">the association office will be closed on Wednesday 12/31/25 and Thursday 1/1/26\,</span></strong></span></p>\n</div>\n<span style="font-size:36px\;"><span style="color:#006400\;"><strong><span style="font-size:12px\;">open on Friday 1/2/26!</span></strong></span></span>
LOCATION:
UID:e.9428.1485
SEQUENCE:3
DTSTAMP:20260421T190623Z
URL:https://construction.greatlakesca.org/events/details/happy-new-year-1485
END:VEVENT

END:VCALENDAR
