BEGIN:VCALENDAR
VERSION:2.0
PRODID:-//ChamberMaster//Event Calendar 2.0//EN
METHOD:PUBLISH
X-PUBLISHED-TTL:P3D
REFRESH-INTERVAL:P3D
CALSCALE:GREGORIAN
BEGIN:VEVENT
DTSTART;VALUE=DATE:20250901
DTEND;VALUE=DATE:20250902
TRANSP:TRANSPARENT
X-MICROSOFT-CDO-ALLDAYEVENT:TRUE
SUMMARY:Happy Labor Day!
DESCRIPTION:Happy Labor Day!
X-ALT-DESC;FMTTYPE=text/html:<span style="font-size:36px\;"><span style="color:#000080\;">Happy Labor Day!</span></span><br />\n&nbsp\;
LOCATION:
UID:e.9428.1476
SEQUENCE:3
DTSTAMP:20260423T124506Z
URL:https://construction.greatlakesca.org/events/details/happy-labor-day-1476
END:VEVENT

END:VCALENDAR
