BEGIN:VCALENDAR
VERSION:2.0
PRODID:-//ChamberMaster//Event Calendar 2.0//EN
METHOD:PUBLISH
X-PUBLISHED-TTL:P3D
REFRESH-INTERVAL:P3D
CALSCALE:GREGORIAN
BEGIN:VEVENT
DTSTART;VALUE=DATE:20250423
DTEND;VALUE=DATE:20250424
TRANSP:TRANSPARENT
X-MICROSOFT-CDO-ALLDAYEVENT:TRUE
SUMMARY:Go Orange Day
DESCRIPTION:Go Orange Day\n\n4/23/25\n\nAll roadway safety professionals across the country are encouraged to wear orange to proudly show their support of work zone safety. NWZAW and Go Orange Day are especially important to the families of victims who have lost their lives in work zones.\n\n\n\nShow your support on social media by posting orange pics and using the hashtags #NWZAW and #Orange4Safety. \n\nhttps://www.nwzaw.org/participate.html
X-ALT-DESC;FMTTYPE=text/html:<span style="color:#FFA500\;"><span style="font-size:48px\;"><span style="font-family:arial\;"><strong>Go Orange Day<br />\n4/23/25</strong></span></span></span><br />\n<span style="font-family: Birdseye\, sans-serif\; font-size: 16px\; background-color: rgb(255\, 255\, 255)\;">All roadway safety professionals across the country are encouraged to wear orange to proudly show their support of work zone safety. NWZAW and Go Orange Day are especially important to the families of victims who have lost their lives in work zones.</span><br style="font-family: Birdseye\, sans-serif\; font-size: 16px\; background-color: rgb(255\, 255\, 255)\;" />\n<br style="font-family: Birdseye\, sans-serif\; font-size: 16px\; background-color: rgb(255\, 255\, 255)\;" />\n<span style="font-family: Birdseye\, sans-serif\; font-size: 16px\; background-color: rgb(255\, 255\, 255)\;">Show your support on social media by posting orange pics and using the hashtags #NWZAW and #Orange4Safety.&nbsp\;<br />\n<a href="https://www.nwzaw.org/participate.html">https://www.nwzaw.org/participate.html</a></span><br />\n&nbsp\;
LOCATION:
UID:e.9428.1468
SEQUENCE:3
DTSTAMP:20260423T201109Z
URL:https://construction.greatlakesca.org/events/details/go-orange-day-1468
END:VEVENT

END:VCALENDAR
