BEGIN:VCALENDAR
VERSION:2.0
PRODID:-//ChamberMaster//Event Calendar 2.0//EN
METHOD:PUBLISH
X-PUBLISHED-TTL:P3D
REFRESH-INTERVAL:P3D
CALSCALE:GREGORIAN
BEGIN:VEVENT
DTSTART:20250906T160000Z
DTEND:20250906T220000Z
X-MICROSOFT-CDO-ALLDAYEVENT:FALSE
SUMMARY:GLCA Summer Tailgate Cook Off
DESCRIPTION:10th Annual Tailgate Cookoff!\n\nJoin us for a family friendly event\, with bounce houses\, face painters\, and delicious food!
X-ALT-DESC;FMTTYPE=text/html:<span style="font-size:26px\;"><strong>10th Annual Tailgate Cookoff!<br />\nJoin us for a family friendly event\, with bounce houses\, face painters\, and delicious food!</strong></span><br />\n&nbsp\;
LOCATION:Lake County Fairgrounds 1060 E. Peterson Rd Grayslake\, IL 60030
UID:e.9428.1444
SEQUENCE:3
DTSTAMP:20260423T124807Z
URL:https://construction.greatlakesca.org/events/details/glca-summer-tailgate-cook-off-09-06-2025-1444
END:VEVENT

END:VCALENDAR
