BEGIN:VCALENDAR
VERSION:2.0
PRODID:-//ChamberMaster//Event Calendar 2.0//EN
METHOD:PUBLISH
X-PUBLISHED-TTL:P3D
REFRESH-INTERVAL:P3D
CALSCALE:GREGORIAN
BEGIN:VEVENT
DTSTART:20251015T160000Z
DTEND:20251015T190000Z
X-MICROSOFT-CDO-ALLDAYEVENT:FALSE
SUMMARY:GLCA Safety Committee Field Trip to Northwestern Field Project
DESCRIPTION:Safety Committee Field Trip to Northwestern Field\n\nThe Safety Committee will tour the Northwestern Field construction project being completed by a couple of GLCA member companies with Safety professionals on the Safety Committee.\n\nDetails have been sent to the Safety Committee members.
X-ALT-DESC;FMTTYPE=text/html:<span style="font-size:26px\;"><strong><span style="color:#800080\;">Safety Committee Field Trip to Northwestern Field</span></strong></span><br />\nThe Safety Committee will tour the Northwestern Field construction project being completed by a couple of GLCA member companies with Safety professionals on the Safety Committee.<br />\nDetails have been sent to the Safety Committee members.
LOCATION:
UID:e.9428.1479
SEQUENCE:3
DTSTAMP:20260423T113121Z
URL:https://construction.greatlakesca.org/events/details/glca-safety-committee-field-trip-to-northwestern-field-project-1479
END:VEVENT

END:VCALENDAR
