BEGIN:VCALENDAR
VERSION:2.0
PRODID:-//ChamberMaster//Event Calendar 2.0//EN
METHOD:PUBLISH
X-PUBLISHED-TTL:P3D
REFRESH-INTERVAL:P3D
CALSCALE:GREGORIAN
BEGIN:VEVENT
DTSTART:20251203T180000Z
DTEND:20251203T200000Z
X-MICROSOFT-CDO-ALLDAYEVENT:FALSE
SUMMARY:GLCA Governor's Holiday Luncheon
DESCRIPTION:GLCA Board of Governors \n\nHoliday Luncheon\n\n& Class of 2025\n\nHall of Fame Induction \n\n\n\n\n\n \n\nWednesday\, December 3rd from \n\n12:00 Noon to 2:00 P.M.\n\nBoard of Governors and Special Guests\n\nat Stevens' Steakhouse\, \n\n401 N Riverside Dr.\, Gurnee\, IL
X-ALT-DESC;FMTTYPE=text/html:<span style="language:en-US\;font-weight:bold\;"><span style="color:black\;"><span style="font-family:seaford\;"><span style="font-size:24.0pt\;"><span style="font-size:20px\;">GLCA Board of Governors</span> </span></span></span></span><br />\n<span style="font-size:20px\;"><span style="language:en-US\;font-weight:bold\;"><span style="color:black\;"><span style="font-family:seaford\;">Holiday Luncheon</span></span></span><br />\n<span style="language:en-US\;font-weight:bold\;"><span style="color:black\;"><span style="font-family:seaford\;">&amp\; Class of 2025</span></span></span><br />\n<span style="language:en-US\;font-weight:bold\;"><span style="color:black\;"><span style="font-family:seaford\;">Hall of Fame Induction </span></span></span><br />\n<br />\n<br />\n&nbsp\;<br />\n<span style="language:en-US\;font-weight:bold\;"><span style="color:black\;"><span style="font-family:seaford\;">Wednesday\, December 3rd from </span></span></span><br />\n<span style="language:en-US\;font-weight:bold\;"><span style="color:black\;"><span style="font-family:seaford\;">12:00 Noon to 2:00 P.M.</span></span></span><br />\n<span style="language:en-US\;font-weight:bold\;"><span style="color:black\;"><span style="font-family:seaford\;">Board of Governors and Special Guests<br />\nat </span></span></span><span style="language:en-US\;font-weight:bold\;"><span style="color:black\;"><span style="font-family:seaford\;">Stevens&#39\; Steakhouse</span></span></span><span style="language:en-US\;font-weight:bold\;"><span style="color:black\;"><span style="font-family:seaford\;">\, </span></span></span><br />\n<span style="language:en-US\;font-weight:bold\;"><span style="color:black\;"><span style="font-family:seaford\;">401 N Riverside Dr.\, </span></span></span><span style="language:en-US\;font-weight:bold\;"><span style="color:black\;"><span style="font-family:seaford\;">Gurnee\, IL</span></span></span></span>
LOCATION:Stevens' Steakhouse Gurnee 401 N. Riverside Drive Gurnee\, IL 60031
UID:e.9428.1446
SEQUENCE:3
DTSTAMP:20260423T084524Z
URL:https://construction.greatlakesca.org/events/details/glca-governor-s-holiday-luncheon-1446
END:VEVENT

END:VCALENDAR
