BEGIN:VCALENDAR
VERSION:2.0
PRODID:-//ChamberMaster//Event Calendar 2.0//EN
METHOD:PUBLISH
X-PUBLISHED-TTL:P3D
REFRESH-INTERVAL:P3D
CALSCALE:GREGORIAN
BEGIN:VEVENT
DTSTART:20251121T230000Z
DTEND:20251122T040000Z
X-MICROSOFT-CDO-ALLDAYEVENT:FALSE
SUMMARY:GLCA APEX Awards & Dinner Gala
DESCRIPTION:GLCA APEX Awards & Dinner Gala\n\nAnnual Awards for our Members of the Year\n\nand Construction Projects of the Year\n\nAnother great APEX Awards & Dinner Gala event!\n\nThank you!
X-ALT-DESC;FMTTYPE=text/html:<span style="font-size:18px\;"><span style="font-size:22px\;"><strong><span style="color:#800000\;">GLCA APEX Awards &amp\; Dinner Gala<br />\nAnnual Awards for our Members of the Year<br />\nand Construction Projects of the Year</span></strong></span><br />\n<em>Another great APEX Awards &amp\; Dinner Gala event!<br />\nThank you!</em></span>
LOCATION:Sanfilippo Estate Barrington\, IL
UID:e.9428.1445
SEQUENCE:3
DTSTAMP:20260423T101826Z
URL:https://construction.greatlakesca.org/events/details/glca-apex-awards-dinner-gala-11-21-2025-1445
END:VEVENT

END:VCALENDAR
