BEGIN:VCALENDAR
VERSION:2.0
PRODID:-//ChamberMaster//Event Calendar 2.0//EN
METHOD:PUBLISH
X-PUBLISHED-TTL:P3D
REFRESH-INTERVAL:P3D
CALSCALE:GREGORIAN
BEGIN:VEVENT
DTSTART:20250823T134500Z
DTEND:20250823T170000Z
X-MICROSOFT-CDO-ALLDAYEVENT:FALSE
SUMMARY:Giving Back Event with Lake County Building Trades
DESCRIPTION:Giving Back Event with\n\nLake County Building Trades\n\nRegister to attend!\n\nWe will be giving out Labor Day cookout meals to families.  This is a fun event bringing Labor and Management together for a great cause!\n\nThe American Place Casino is providing tents\, tables and their people to direct traffic that morning for families arriving for pickup.\n\nCome out for a fun and meaningful event!
X-ALT-DESC;FMTTYPE=text/html:<span style="font-size:22px\;"><strong><span style="font-size:26px\;"><span style="color:#000000\;">Giving Back Event with<br />\nLake County Building Trades</span></span><br />\n<span style="font-size:26px\;">Register to attend!<br />\nWe will be giving out Labor Day cookout meals to families.&nbsp\; This is a fun event bringing Labor and Management together for a great cause!<br />\nThe American Place Casino is providing tents\, tables and their people to direct traffic that morning for families arriving for pickup.<br />\nCome out for a fun and meaningful event!</span></strong></span><br />\n&nbsp\;
LOCATION:American Place Casino Parking lot 4011 Fountain Square Place Waukegan\, IL 60085
UID:e.9428.1473
SEQUENCE:3
DTSTAMP:20260423T141638Z
URL:https://construction.greatlakesca.org/events/details/giving-back-event-with-lake-county-building-trades-1473
END:VEVENT

END:VCALENDAR
