BEGIN:VCALENDAR
VERSION:2.0
PRODID:-//ChamberMaster//Event Calendar 2.0//EN
METHOD:PUBLISH
X-PUBLISHED-TTL:P3D
REFRESH-INTERVAL:P3D
CALSCALE:GREGORIAN
BEGIN:VEVENT
DTSTART:20250508T180000Z
DTEND:20250508T190000Z
X-MICROSOFT-CDO-ALLDAYEVENT:FALSE
SUMMARY:Board of Directors Meeting
DESCRIPTION:Board of Directors Meeting\n\nGLCA Office Boardroom\n\n1:00 pm
X-ALT-DESC;FMTTYPE=text/html:<span style="font-size:16px\;">Board of Directors Meeting<br />\nGLCA Office Boardroom<br />\n1:00 pm&nbsp\;&nbsp\;&nbsp\;&nbsp\;&nbsp\;&nbsp\;&nbsp\;&nbsp\;</span>
LOCATION:GLCA Office 1850 W. Winchester Road #111 Libertyville\, IL 60048
UID:e.9428.1457
SEQUENCE:3
DTSTAMP:20260423T191714Z
URL:https://construction.greatlakesca.org/events/details/board-of-directors-meeting-1457
END:VEVENT

END:VCALENDAR
