BEGIN:VCALENDAR
VERSION:2.0
PRODID:-//ChamberMaster//Event Calendar 2.0//EN
METHOD:PUBLISH
X-PUBLISHED-TTL:P3D
REFRESH-INTERVAL:P3D
CALSCALE:GREGORIAN
BEGIN:VEVENT
DTSTART:20250730T153000Z
DTEND:20250730T233000Z
X-MICROSOFT-CDO-ALLDAYEVENT:FALSE
SUMMARY:Annual Golf Outing
DESCRIPTION:Annual Golf Outing at\n\nGeneva National in Lake Geneva\, WI
X-ALT-DESC;FMTTYPE=text/html:<span style="color:#008000\;"><strong><span style="font-size:28px\;">Annual Golf Outing at<br />\nGeneva National in Lake Geneva\, WI</span></strong></span><br />\n&nbsp\;
LOCATION:Geneva National Resort 1221 Geneva National Avenue South Lake Geneva\, WI 53147
UID:e.9428.1443
SEQUENCE:3
DTSTAMP:20260423T160740Z
URL:https://construction.greatlakesca.org/events/details/annual-golf-outing-1443
END:VEVENT

END:VCALENDAR
